BEGIN:VCALENDAR
VERSION:2.0
PRODID:-//Bridgetown CRC - ECPv4.6.4//NONSGML v1.0//EN
CALSCALE:GREGORIAN
METHOD:PUBLISH
X-WR-CALNAME:Bridgetown CRC
X-ORIGINAL-URL:http://www.bridgetowncrc.net.au
X-WR-CALDESC:Events for Bridgetown CRC
BEGIN:VEVENT
DTSTART;TZID=UTC+8:20180507T100000
DTEND;TZID=UTC+8:20180507T120000
DTSTAMP:20190228T154446
CREATED:20171123T011021Z
LAST-MODIFIED:20180427T014935Z
UID:602-1525687200-1525694400@www.bridgetowncrc.net.au
SUMMARY:An Intro to Excel
DESCRIPTION: \nAn Introduction to Excel\nwith Philip McWhiter – Technology Tutor \nThe two hour course aims to give the new spreadsheet user an introduction to Microsoft Excel. After completing this course you will be able to successfully:\n\nNavigate your way around Microsoft Excel\nCreate and work with a new workbook\nCopy and paste data within Excel\nMove the content of cells in both workbooks and worksheets\nPrint your workbook data\n\n$40 per person\nMonday 7th May 2018\n10am to 12pm\n  \nFor bookings with payment\, please call into the Bridgetown Community Resource Centre. Places Limited.\n \n
URL:http://www.bridgetowncrc.net.au/event/an-introduction-to-excel/
LOCATION:150 Hampton St\, Bridgetown\, WA\, 6255\, Australia
END:VEVENT
END:VCALENDAR