BEGIN:VCALENDAR
VERSION:2.0
PRODID:-//Bridgetown CRC - ECPv4.6.4//NONSGML v1.0//EN
CALSCALE:GREGORIAN
METHOD:PUBLISH
X-WR-CALNAME:Bridgetown CRC
X-ORIGINAL-URL:http://www.bridgetowncrc.net.au
X-WR-CALDESC:Events for Bridgetown CRC
BEGIN:VEVENT
DTSTART;TZID=UTC+8:20180906T183000
DTEND;TZID=UTC+8:20180906T200000
DTSTAMP:20190228T153429
CREATED:20180817T054257Z
LAST-MODIFIED:20180817T054257Z
UID:744-1536258600-1536264000@www.bridgetowncrc.net.au
SUMMARY:Business After 5
DESCRIPTION:If you are interested in attending please RSVP either by phone or email as per the contact details provided on the flyer.\n \n
URL:http://www.bridgetowncrc.net.au/event/business-after-5/
END:VEVENT
END:VCALENDAR