BEGIN:VCALENDAR
VERSION:2.0
PRODID:-//Bridgetown CRC - ECPv4.6.4//NONSGML v1.0//EN
CALSCALE:GREGORIAN
METHOD:PUBLISH
X-WR-CALNAME:Bridgetown CRC
X-ORIGINAL-URL:http://www.bridgetowncrc.net.au
X-WR-CALDESC:Events for Bridgetown CRC
BEGIN:VEVENT
DTSTART;TZID=UTC+8:20180906T140000
DTEND;TZID=UTC+8:20180906T150000
DTSTAMP:20190228T153748
CREATED:20180824T023002Z
LAST-MODIFIED:20180824T023002Z
UID:752-1536242400-1536246000@www.bridgetowncrc.net.au
SUMMARY:Community Legal Education Session
DESCRIPTION: \n
URL:http://www.bridgetowncrc.net.au/event/community-legal-education-session/
LOCATION:150 Hampton St\, Bridgetown\, WA\, 6255\, Australia
END:VEVENT
END:VCALENDAR