BEGIN:VCALENDAR
VERSION:2.0
PRODID:-//Bridgetown CRC - ECPv4.6.4//NONSGML v1.0//EN
CALSCALE:GREGORIAN
METHOD:PUBLISH
X-WR-CALNAME:Bridgetown CRC
X-ORIGINAL-URL:http://www.bridgetowncrc.net.au
X-WR-CALDESC:Events for Bridgetown CRC
BEGIN:VEVENT
DTSTART;TZID=UTC+8:20180517T090000
DTEND;TZID=UTC+8:20180517T163000
DTSTAMP:20190228T154105
CREATED:20180329T012025Z
LAST-MODIFIED:20180329T012449Z
UID:676-1526547600-1526574600@www.bridgetowncrc.net.au
SUMMARY:Diabetes Education Session
DESCRIPTION:This education session will be held at the Bridgetown Community Resource Centre for bookings please call the number above.\n  \n
URL:http://www.bridgetowncrc.net.au/event/diabetes-education-session/
END:VEVENT
END:VCALENDAR