BEGIN:VCALENDAR
VERSION:2.0
PRODID:-//Bridgetown CRC - ECPv4.6.4//NONSGML v1.0//EN
CALSCALE:GREGORIAN
METHOD:PUBLISH
X-WR-CALNAME:Bridgetown CRC
X-ORIGINAL-URL:http://www.bridgetowncrc.net.au
X-WR-CALDESC:Events for Bridgetown CRC
BEGIN:VEVENT
DTSTART;TZID=UTC+8:20180627T100000
DTEND;TZID=UTC+8:20180627T120000
DTSTAMP:20190228T153802
CREATED:20180525T052246Z
LAST-MODIFIED:20180525T052246Z
UID:719-1530093600-1530100800@www.bridgetowncrc.net.au
SUMMARY:Governence for "Not For Profits"
DESCRIPTION: \n
URL:http://www.bridgetowncrc.net.au/event/governence-for-not-for-profits/
LOCATION:150 Hampton St\, Bridgetown\, WA\, 6255\, Australia
END:VEVENT
END:VCALENDAR