BEGIN:VCALENDAR
VERSION:2.0
PRODID:-//Bridgetown CRC - ECPv4.6.4//NONSGML v1.0//EN
CALSCALE:GREGORIAN
METHOD:PUBLISH
X-WR-CALNAME:Bridgetown CRC
X-ORIGINAL-URL:http://www.bridgetowncrc.net.au
X-WR-CALDESC:Events for Bridgetown CRC
BEGIN:VEVENT
DTSTART;TZID=UTC+8:20181123T100000
DTEND;TZID=UTC+8:20181123T110000
DTSTAMP:20190228T152656
CREATED:20181005T041833Z
LAST-MODIFIED:20181005T041833Z
UID:769-1542967200-1542970800@www.bridgetowncrc.net.au
SUMMARY:Greenbushes Lithium Operations
DESCRIPTION: \n
URL:http://www.bridgetowncrc.net.au/event/greenbushes-lithium-operations/
LOCATION:150 Hampton St\, Bridgetown\, WA\, 6255\, Australia
END:VEVENT
END:VCALENDAR