BEGIN:VCALENDAR
VERSION:2.0
PRODID:-//Bridgetown CRC - ECPv4.6.4//NONSGML v1.0//EN
CALSCALE:GREGORIAN
METHOD:PUBLISH
X-WR-CALNAME:Bridgetown CRC
X-ORIGINAL-URL:http://www.bridgetowncrc.net.au
X-WR-CALDESC:Events for Bridgetown CRC
BEGIN:VEVENT
DTSTART;TZID=UTC+8:20171208T093000
DTEND;TZID=UTC+8:20171208T123000
DTSTAMP:20190228T154840
CREATED:20171123T012224Z
LAST-MODIFIED:20171207T020502Z
UID:607-1512725400-1512736200@www.bridgetowncrc.net.au
SUMMARY:Instagram Workshop
DESCRIPTION: \nInstagram Workshop for Businesses\, Community Groups and Individuals.\nFriday 8th December 2017\n9:30am – 12:30pm\n$30 per person\nFor more information and bookings\, contact the Bridgetown CRC on 9761-2712. \nSpaces Limited. Book early. \nAll attendees will need to bring a mobile phone with them and we ask that you set up an Instagram account before the day if you don’t have one. \n \n  \n
URL:http://www.bridgetowncrc.net.au/event/instagram-workshop/
LOCATION:150 Hampton St\, Bridgetown\, WA\, 6255\, Australia
END:VEVENT
END:VCALENDAR