BEGIN:VCALENDAR
VERSION:2.0
PRODID:-//Bridgetown CRC - ECPv4.6.4//NONSGML v1.0//EN
CALSCALE:GREGORIAN
METHOD:PUBLISH
X-WR-CALNAME:Bridgetown CRC
X-ORIGINAL-URL:http://www.bridgetowncrc.net.au
X-WR-CALDESC:Events for Bridgetown CRC
BEGIN:VEVENT
DTSTART;TZID=UTC+8:20180427T100000
DTEND;TZID=UTC+8:20180427T120000
DTSTAMP:20190228T154822
CREATED:20180104T011843Z
LAST-MODIFIED:20180412T013240Z
UID:623-1524823200-1524830400@www.bridgetowncrc.net.au
SUMMARY:Minecraft Session
DESCRIPTION: \nPlease call the Bridgetown Community Resource Centre on 9761 2712 to book your seat.\nAs places are limited payment must be received to confirm your spot.  \n
URL:http://www.bridgetowncrc.net.au/event/minecraft-session/
LOCATION:150 Hampton St\, Bridgetown\, WA\, 6255\, Australia
END:VEVENT
END:VCALENDAR